BEGIN:VCALENDAR
VERSION:2.0
PRODID:spatie/icalendar-generator
DESCRIPTION:Evenementen van Test website HRR
X-WR-CALDESC:Evenementen van Test website HRR
REFRESH-INTERVAL;VALUE=DURATION:PT1440M
X-PUBLISHED-TTL:PT1440M
BEGIN:VTIMEZONE
TZID:Etc/GMT-1
BEGIN:STANDARD
DTSTART:20250717T203000Z
TZOFFSETFROM:+0100
TZOFFSETTO:+0100
END:STANDARD
END:VTIMEZONE
BEGIN:VTIMEZONE
TZID:UTC
BEGIN:STANDARD
DTSTART:20250727T143217Z
TZOFFSETFROM:+0000
TZOFFSETTO:+0000
END:STANDARD
END:VTIMEZONE
BEGIN:VEVENT
UID:18-7
DTSTAMP:20260423T143217Z
SUMMARY:ALV
LOCATION:Clubgebouw Groenendaal 11 2244 BK Wassenaar
ORGANIZER;CN=admin:MAILTO:webmaster@hagueroadrunners.nl
DTSTART;TZID=Etc/GMT-1:20260413T203000
DTEND;TZID=Etc/GMT-1:20260413T220000
X-ALT-DESC;FMTTYPE=TEXT/HTML:
CATEGORIES:General
URL;VALUE=URI:https://test.hagueroadrunners.nl/mc-events/alv/
METHOD:PUBLISH
END:VEVENT
END:VCALENDAR